BEGIN:VCALENDAR
VERSION:2.0
PRODID:-//Tukios.com/
BEGIN:VEVENT
UID:64f37eb0-54e2-4201-bdf4-fb0e31232886@www.bowlinfuneralhome.com
DTSTAMP:20260420T023340Z
DTSTART:20260420T210000Z
DTEND:20260421T000000Z
SUMMARY:Visitation
DESCRIPTION:
URL:https://www.bowlinfuneralhome.com/obituaries/theo-wilkinson
LOCATION:Bowlin Funeral Home 279 W Main St  Dresden TN 38225
GEO:36.2908645;-88.7124988
END:VEVENT
END:VCALENDAR