BEGIN:VCALENDAR
VERSION:2.0
PRODID:-//Tukios.com/
BEGIN:VEVENT
UID:dad86efc-ca30-42c8-9d6f-ba36f17a52b4@www.bowlinfuneralhome.com
DTSTAMP:20260420T023253Z
DTSTART:20260421T170000Z
DTEND:20260421T180000Z
SUMMARY:Visitation
DESCRIPTION:
URL:https://www.bowlinfuneralhome.com/obituaries/theo-wilkinson
LOCATION:Bowlin Funeral Home 279 W Main St  Dresden TN 38225
GEO:36.2908645;-88.7124988
END:VEVENT
END:VCALENDAR