BEGIN:VCALENDAR
VERSION:2.0
PRODID:-//Tukios.com/
BEGIN:VEVENT
UID:bdb5640b-811d-4e6a-b40f-c2ba0aba6e3a@www.bowlinfuneralhome.com
DTSTAMP:20260420T023541Z
DTSTART:20260421T180000Z
DTEND:20260421T190000Z
SUMMARY:Funeral Service
DESCRIPTION:
URL:https://www.bowlinfuneralhome.com/obituaries/theo-wilkinson
LOCATION: 279 W Main St  Dresden TN 38225
GEO:36.2908645;-88.7124988
END:VEVENT
END:VCALENDAR